BEGIN:VCALENDAR
VERSION:2.0
PRODID:-//uCity Square - ECPv6.6.4.2//NONSGML v1.0//EN
CALSCALE:GREGORIAN
METHOD:PUBLISH
X-ORIGINAL-URL:https://ucitysquare.com
X-WR-CALDESC:Events for uCity Square
REFRESH-INTERVAL;VALUE=DURATION:PT1H
X-Robots-Tag:noindex
X-PUBLISHED-TTL:PT1H
BEGIN:VTIMEZONE
TZID:America/New_York
BEGIN:DAYLIGHT
TZOFFSETFROM:-0500
TZOFFSETTO:-0400
TZNAME:EDT
DTSTART:20240310T070000
END:DAYLIGHT
BEGIN:STANDARD
TZOFFSETFROM:-0400
TZOFFSETTO:-0500
TZNAME:EST
DTSTART:20241103T060000
END:STANDARD
BEGIN:DAYLIGHT
TZOFFSETFROM:-0500
TZOFFSETTO:-0400
TZNAME:EDT
DTSTART:20250309T070000
END:DAYLIGHT
BEGIN:STANDARD
TZOFFSETFROM:-0400
TZOFFSETTO:-0500
TZNAME:EST
DTSTART:20251102T060000
END:STANDARD
BEGIN:DAYLIGHT
TZOFFSETFROM:-0500
TZOFFSETTO:-0400
TZNAME:EDT
DTSTART:20260308T070000
END:DAYLIGHT
BEGIN:STANDARD
TZOFFSETFROM:-0400
TZOFFSETTO:-0500
TZNAME:EST
DTSTART:20261101T060000
END:STANDARD
END:VTIMEZONE
BEGIN:VEVENT
DTSTART;TZID=America/New_York:20260411T090000
DTEND;TZID=America/New_York:20260412T170000
DTSTAMP:20260422T050625
CREATED:20260209T152143Z
LAST-MODIFIED:20260209T152143Z
UID:10002985-1775898000-1776013200@ucitysquare.com
SUMMARY:Philly Codefest
DESCRIPTION:
URL:https://ucitysquare.com/event/philly-codefest/
LOCATION:3675 Market Street\, 3675 Market Street\, Philadelphia\, PA 19104\, PA\, 19104\, United States
END:VEVENT
BEGIN:VEVENT
DTSTART;TZID=America/New_York:20260219T113000
DTEND;TZID=America/New_York:20260219T123000
DTSTAMP:20260422T050625
CREATED:20260128T204902Z
LAST-MODIFIED:20260128T205509Z
UID:10002757-1771500600-1771504200@ucitysquare.com
SUMMARY:Navigating Career Pathways for Young Scientists
DESCRIPTION:
URL:https://ucitysquare.com/event/navigating-career-pathways-for-young-scientists/
LOCATION:3675 Market Street\, 3675 Market Street\, Philadelphia\, PA 19104\, PA\, 19104\, United States
END:VEVENT
BEGIN:VEVENT
DTSTART;TZID=America/New_York:20251021T090000
DTEND;TZID=America/New_York:20251021T140000
DTSTAMP:20260422T050625
CREATED:20250926T164402Z
LAST-MODIFIED:20250926T164403Z
UID:10002351-1761037200-1761055200@ucitysquare.com
SUMMARY:Red Cross Blood Drive at uCity Square
DESCRIPTION:
URL:https://ucitysquare.com/event/red-cross-blood-drive-at-ucity-square/
LOCATION:3675 Market Street\, 3675 Market Street\, Philadelphia\, PA 19104\, PA\, 19104\, United States
ATTACH;FMTTYPE=image/png:/wp-content/uploads/2025/09/RedCross_BloodDriveHEART.png
END:VEVENT
BEGIN:VEVENT
DTSTART;TZID=America/New_York:20250424T090000
DTEND;TZID=America/New_York:20250424T130000
DTSTAMP:20260422T050625
CREATED:20250228T024623Z
LAST-MODIFIED:20250305T154029Z
UID:10001645-1745485200-1745499600@ucitysquare.com
SUMMARY:Take Your Kid to Work Day
DESCRIPTION:
URL:https://ucitysquare.com/event/take-your-kid-to-work-day/
LOCATION:3675 Market Street\, 3675 Market Street\, Philadelphia\, PA 19104\, PA\, 19104\, United States
ATTACH;FMTTYPE=image/jpeg:/wp-content/uploads/2024/05/Take-Your-Kids-to-Work-Day-uCity-2024-2.jpg
END:VEVENT
BEGIN:VEVENT
DTSTART;TZID=America/New_York:20250417T140000
DTEND;TZID=America/New_York:20250417T170000
DTSTAMP:20260422T050625
CREATED:20250320T144400Z
LAST-MODIFIED:20250320T144400Z
UID:10002186-1744898400-1744909200@ucitysquare.com
SUMMARY:WORC Loan and Grant Conference
DESCRIPTION:
URL:https://ucitysquare.com/event/worc-loan-and-grant-conference/
LOCATION:3675 Market Street\, 3675 Market Street\, Philadelphia\, PA 19104\, PA\, 19104\, United States
END:VEVENT
BEGIN:VEVENT
DTSTART;TZID=America/New_York:20250301T090000
DTEND;TZID=America/New_York:20250301T170000
DTSTAMP:20260422T050625
CREATED:20250117T163451Z
LAST-MODIFIED:20250117T163543Z
UID:10001620-1740819600-1740848400@ucitysquare.com
SUMMARY:Drexel CCI Philly Codefest 2025
DESCRIPTION:
URL:https://ucitysquare.com/event/drexel-cci-philly-codefest-2025/2025-03-01/2/
LOCATION:3675 Market Street\, 3675 Market Street\, Philadelphia\, PA 19104\, PA\, 19104\, United States
ATTACH;FMTTYPE=image/png:/wp-content/uploads/2023/09/S-Drexel-CCI-1.png
END:VEVENT
BEGIN:VEVENT
DTSTART;TZID=America/New_York:20250301T080000
DTEND;TZID=America/New_York:20250302T170000
DTSTAMP:20260422T050625
CREATED:20250117T163451Z
LAST-MODIFIED:20250117T163543Z
UID:10001621-1740816000-1740934800@ucitysquare.com
SUMMARY:Drexel CCI Philly Codefest 2025
DESCRIPTION:
URL:https://ucitysquare.com/event/drexel-cci-philly-codefest-2025/2025-03-01/1/
LOCATION:3675 Market Street\, 3675 Market Street\, Philadelphia\, PA 19104\, PA\, 19104\, United States
ATTACH;FMTTYPE=image/png:/wp-content/uploads/2023/09/S-Drexel-CCI-1.png
END:VEVENT
BEGIN:VEVENT
DTSTART;TZID=America/New_York:20250219T163000
DTEND;TZID=America/New_York:20250219T183000
DTSTAMP:20260422T050625
CREATED:20250218T183211Z
LAST-MODIFIED:20250218T183518Z
UID:10001639-1739982600-1739989800@ucitysquare.com
SUMMARY:Thrive in the First Five
DESCRIPTION:
URL:https://ucitysquare.com/event/thrive-in-the-first-five/
LOCATION:3675 Market Street\, 3675 Market Street\, Philadelphia\, PA 19104\, PA\, 19104\, United States
ATTACH;FMTTYPE=image/png:/wp-content/uploads/2025/02/Black-Tech-philly-1080-x-1350-px.png
END:VEVENT
BEGIN:VEVENT
DTSTART;TZID=America/New_York:20250122T080000
DTEND;TZID=America/New_York:20250122T110000
DTSTAMP:20260422T050625
CREATED:20241120T143504Z
LAST-MODIFIED:20250113T210637Z
UID:10001604-1737532800-1737543600@ucitysquare.com
SUMMARY:CIC Open House
DESCRIPTION:
URL:https://ucitysquare.com/event/cic-open-house/
LOCATION:3675 Market Street\, 3675 Market Street\, Philadelphia\, PA 19104\, PA\, 19104\, United States
ATTACH;FMTTYPE=image/jpeg:/wp-content/uploads/2024/11/triggsphoto©2024_wexford_uCity_6-scaled.jpg
END:VEVENT
BEGIN:VEVENT
DTSTART;TZID=America/New_York:20241024T110000
DTEND;TZID=America/New_York:20241024T130000
DTSTAMP:20260422T050625
CREATED:20241021T142444Z
LAST-MODIFIED:20241021T142444Z
UID:10001589-1729767600-1729774800@ucitysquare.com
SUMMARY:ZEISS Microscopy Solutions Center @ CIC - Launch Event
DESCRIPTION:
URL:https://ucitysquare.com/event/zeiss-microscopy-solutions-center-cic-launch-event/
LOCATION:3675 Market Street\, 3675 Market Street\, Philadelphia\, PA 19104\, PA\, 19104\, United States
END:VEVENT
END:VCALENDAR