BEGIN:VCALENDAR
VERSION:2.0
PRODID:-//uCity Square - ECPv6.6.4.2//NONSGML v1.0//EN
CALSCALE:GREGORIAN
METHOD:PUBLISH
X-WR-CALNAME:uCity Square
X-ORIGINAL-URL:https://ucitysquare.com
X-WR-CALDESC:Events for uCity Square
REFRESH-INTERVAL;VALUE=DURATION:PT1H
X-Robots-Tag:noindex
X-PUBLISHED-TTL:PT1H
BEGIN:VTIMEZONE
TZID:America/New_York
BEGIN:DAYLIGHT
TZOFFSETFROM:-0500
TZOFFSETTO:-0400
TZNAME:EDT
DTSTART:20260308T070000
END:DAYLIGHT
BEGIN:STANDARD
TZOFFSETFROM:-0400
TZOFFSETTO:-0500
TZNAME:EST
DTSTART:20261101T060000
END:STANDARD
END:VTIMEZONE
BEGIN:VEVENT
DTSTART;TZID=America/New_York:20260101T113000
DTEND;TZID=America/New_York:20260101T143000
DTSTAMP:20260424T043224
CREATED:20251030T142737Z
LAST-MODIFIED:20251030T142805Z
UID:10002444-1767267000-1767277800@ucitysquare.com
SUMMARY:Food Truck Thursdays
DESCRIPTION:Food
URL:https://ucitysquare.com/event/food-truck-thursdays-winter-2025-26/2026-01-01/
LOCATION:The Lawn at uCity Square\, 37th & Cuthbert Street\, Philadelphia\, PA\, 19104\, United States
ATTACH;FMTTYPE=image/png:/wp-content/uploads/2024/02/food-trucks.png
GEO:39.9573877437;-75.195771211
X-APPLE-STRUCTURED-LOCATION;VALUE=URI;X-ADDRESS=The Lawn at uCity Square 37th & Cuthbert Street Philadelphia PA 19104 United States;X-APPLE-RADIUS=500;X-TITLE=37th & Cuthbert Street:geo:-75.195771211,39.9573877437
END:VEVENT
BEGIN:VEVENT
DTSTART;TZID=America/New_York:20260108T113000
DTEND;TZID=America/New_York:20260108T143000
DTSTAMP:20260424T043224
CREATED:20251030T142737Z
LAST-MODIFIED:20251030T142805Z
UID:10002445-1767871800-1767882600@ucitysquare.com
SUMMARY:Food Truck Thursdays
DESCRIPTION:Food
URL:https://ucitysquare.com/event/food-truck-thursdays-winter-2025-26/2026-01-08/
LOCATION:The Lawn at uCity Square\, 37th & Cuthbert Street\, Philadelphia\, PA\, 19104\, United States
ATTACH;FMTTYPE=image/png:/wp-content/uploads/2024/02/food-trucks.png
GEO:39.9573877437;-75.195771211
X-APPLE-STRUCTURED-LOCATION;VALUE=URI;X-ADDRESS=The Lawn at uCity Square 37th & Cuthbert Street Philadelphia PA 19104 United States;X-APPLE-RADIUS=500;X-TITLE=37th & Cuthbert Street:geo:-75.195771211,39.9573877437
END:VEVENT
BEGIN:VEVENT
DTSTART;TZID=America/New_York:20260115T113000
DTEND;TZID=America/New_York:20260115T143000
DTSTAMP:20260424T043224
CREATED:20251030T142737Z
LAST-MODIFIED:20251030T142805Z
UID:10002446-1768476600-1768487400@ucitysquare.com
SUMMARY:Food Truck Thursdays
DESCRIPTION:Food
URL:https://ucitysquare.com/event/food-truck-thursdays-winter-2025-26/2026-01-15/
LOCATION:The Lawn at uCity Square\, 37th & Cuthbert Street\, Philadelphia\, PA\, 19104\, United States
ATTACH;FMTTYPE=image/png:/wp-content/uploads/2024/02/food-trucks.png
GEO:39.9573877437;-75.195771211
X-APPLE-STRUCTURED-LOCATION;VALUE=URI;X-ADDRESS=The Lawn at uCity Square 37th & Cuthbert Street Philadelphia PA 19104 United States;X-APPLE-RADIUS=500;X-TITLE=37th & Cuthbert Street:geo:-75.195771211,39.9573877437
END:VEVENT
BEGIN:VEVENT
DTSTART;TZID=America/New_York:20260115T163000
DTEND;TZID=America/New_York:20260115T183000
DTSTAMP:20260424T043224
CREATED:20260116T161358Z
LAST-MODIFIED:20260116T161412Z
UID:10002476-1768494600-1768501800@ucitysquare.com
SUMMARY:Monthly Innovation eXchange
DESCRIPTION:
URL:https://ucitysquare.com/event/monthly-innovation-exchange-2026/2026-01-15/
LOCATION:Pennsylvania
ATTACH;FMTTYPE=image/jpeg:/wp-content/uploads/2026/01/IMG_2072-scaled.jpg
END:VEVENT
BEGIN:VEVENT
DTSTART;TZID=America/New_York:20260122T113000
DTEND;TZID=America/New_York:20260122T143000
DTSTAMP:20260424T043224
CREATED:20251030T142737Z
LAST-MODIFIED:20251030T142805Z
UID:10002447-1769081400-1769092200@ucitysquare.com
SUMMARY:Food Truck Thursdays
DESCRIPTION:Food
URL:https://ucitysquare.com/event/food-truck-thursdays-winter-2025-26/2026-01-22/
LOCATION:The Lawn at uCity Square\, 37th & Cuthbert Street\, Philadelphia\, PA\, 19104\, United States
ATTACH;FMTTYPE=image/png:/wp-content/uploads/2024/02/food-trucks.png
GEO:39.9573877437;-75.195771211
X-APPLE-STRUCTURED-LOCATION;VALUE=URI;X-ADDRESS=The Lawn at uCity Square 37th & Cuthbert Street Philadelphia PA 19104 United States;X-APPLE-RADIUS=500;X-TITLE=37th & Cuthbert Street:geo:-75.195771211,39.9573877437
END:VEVENT
BEGIN:VEVENT
DTSTART;TZID=America/New_York:20260129T113000
DTEND;TZID=America/New_York:20260129T143000
DTSTAMP:20260424T043224
CREATED:20251030T142737Z
LAST-MODIFIED:20251030T142805Z
UID:10002448-1769686200-1769697000@ucitysquare.com
SUMMARY:Food Truck Thursdays
DESCRIPTION:Food
URL:https://ucitysquare.com/event/food-truck-thursdays-winter-2025-26/2026-01-29/
LOCATION:The Lawn at uCity Square\, 37th & Cuthbert Street\, Philadelphia\, PA\, 19104\, United States
ATTACH;FMTTYPE=image/png:/wp-content/uploads/2024/02/food-trucks.png
GEO:39.9573877437;-75.195771211
X-APPLE-STRUCTURED-LOCATION;VALUE=URI;X-ADDRESS=The Lawn at uCity Square 37th & Cuthbert Street Philadelphia PA 19104 United States;X-APPLE-RADIUS=500;X-TITLE=37th & Cuthbert Street:geo:-75.195771211,39.9573877437
END:VEVENT
END:VCALENDAR