BEGIN:VCALENDAR
VERSION:2.0
PRODID:-//uCity Square - ECPv6.6.4.2//NONSGML v1.0//EN
CALSCALE:GREGORIAN
METHOD:PUBLISH
X-WR-CALNAME:uCity Square
X-ORIGINAL-URL:https://ucitysquare.com
X-WR-CALDESC:Events for uCity Square
REFRESH-INTERVAL;VALUE=DURATION:PT1H
X-Robots-Tag:noindex
X-PUBLISHED-TTL:PT1H
BEGIN:VTIMEZONE
TZID:America/New_York
BEGIN:DAYLIGHT
TZOFFSETFROM:-0500
TZOFFSETTO:-0400
TZNAME:EDT
DTSTART:20250309T070000
END:DAYLIGHT
BEGIN:STANDARD
TZOFFSETFROM:-0400
TZOFFSETTO:-0500
TZNAME:EST
DTSTART:20251102T060000
END:STANDARD
END:VTIMEZONE
BEGIN:VEVENT
DTSTART;TZID=America/New_York:20250821T113000
DTEND;TZID=America/New_York:20250821T143000
DTSTAMP:20260423T133859
CREATED:20250331T211446Z
LAST-MODIFIED:20250331T211446Z
UID:10002209-1755775800-1755786600@ucitysquare.com
SUMMARY:Food Truck Thursdays
DESCRIPTION:Fo
URL:https://ucitysquare.com/event/food-truck-thursdays-2/2025-08-21/
LOCATION:The Lawn at uCity Square\, 37th & Cuthbert Street\, Philadelphia\, PA\, 19104\, United States
ATTACH;FMTTYPE=image/jpeg:/wp-content/uploads/2025/02/DSC00795.jpg
GEO:39.9573877437;-75.195771211
X-APPLE-STRUCTURED-LOCATION;VALUE=URI;X-ADDRESS=The Lawn at uCity Square 37th & Cuthbert Street Philadelphia PA 19104 United States;X-APPLE-RADIUS=500;X-TITLE=37th & Cuthbert Street:geo:-75.195771211,39.9573877437
END:VEVENT
BEGIN:VEVENT
DTSTART;TZID=America/New_York:20250821T160000
DTEND;TZID=America/New_York:20250821T190000
DTSTAMP:20260423T133859
CREATED:20250312T143709Z
LAST-MODIFIED:20250604T150934Z
UID:10002060-1755792000-1755802800@ucitysquare.com
SUMMARY:uCity Square Beer Garden
DESCRIPTION:
URL:https://ucitysquare.com/event/ucity-square-beer-garden-2025/2025-08-21/
LOCATION:Pennsylvania
ATTACH;FMTTYPE=image/png:/wp-content/uploads/2023/09/uCS-Beer-Garden-1.png
END:VEVENT
BEGIN:VEVENT
DTSTART;TZID=America/New_York:20250821T170000
DTEND;TZID=America/New_York:20250821T200000
DTSTAMP:20260423T133859
CREATED:20250804T211003Z
LAST-MODIFIED:20250804T211018Z
UID:10002333-1755795600-1755806400@ucitysquare.com
SUMMARY:University City Summer Series concert
DESCRIPTION:
URL:https://ucitysquare.com/event/university-city-summer-series-concert/
LOCATION:The Lawn at uCity Square\, 37th & Cuthbert Street\, Philadelphia\, PA\, 19104\, United States
ATTACH;FMTTYPE=image/jpeg:/wp-content/uploads/2025/08/Summer-Series-2025-4x5-v3.jpg
GEO:39.9573877437;-75.195771211
X-APPLE-STRUCTURED-LOCATION;VALUE=URI;X-ADDRESS=The Lawn at uCity Square 37th & Cuthbert Street Philadelphia PA 19104 United States;X-APPLE-RADIUS=500;X-TITLE=37th & Cuthbert Street:geo:-75.195771211,39.9573877437
END:VEVENT
END:VCALENDAR