BEGIN:VCALENDAR
VERSION:2.0
PRODID:-//uCity Square - ECPv6.6.4.2//NONSGML v1.0//EN
CALSCALE:GREGORIAN
METHOD:PUBLISH
X-WR-CALNAME:uCity Square
X-ORIGINAL-URL:https://ucitysquare.com
X-WR-CALDESC:Events for uCity Square
REFRESH-INTERVAL;VALUE=DURATION:PT1H
X-Robots-Tag:noindex
X-PUBLISHED-TTL:PT1H
BEGIN:VTIMEZONE
TZID:America/New_York
BEGIN:DAYLIGHT
TZOFFSETFROM:-0500
TZOFFSETTO:-0400
TZNAME:EDT
DTSTART:20250309T070000
END:DAYLIGHT
BEGIN:STANDARD
TZOFFSETFROM:-0400
TZOFFSETTO:-0500
TZNAME:EST
DTSTART:20251102T060000
END:STANDARD
END:VTIMEZONE
BEGIN:VEVENT
DTSTART;TZID=America/New_York:20250612T113000
DTEND;TZID=America/New_York:20250612T143000
DTSTAMP:20260421T041300
CREATED:20250331T211446Z
LAST-MODIFIED:20250331T211446Z
UID:10002199-1749727800-1749738600@ucitysquare.com
SUMMARY:Food Truck Thursdays
DESCRIPTION:Fo
URL:https://ucitysquare.com/event/food-truck-thursdays-2/2025-06-12/
LOCATION:The Lawn at uCity Square\, 37th & Cuthbert Street\, Philadelphia\, PA\, 19104\, United States
ATTACH;FMTTYPE=image/jpeg:/wp-content/uploads/2025/02/DSC00795.jpg
GEO:39.9573877437;-75.195771211
X-APPLE-STRUCTURED-LOCATION;VALUE=URI;X-ADDRESS=The Lawn at uCity Square 37th & Cuthbert Street Philadelphia PA 19104 United States;X-APPLE-RADIUS=500;X-TITLE=37th & Cuthbert Street:geo:-75.195771211,39.9573877437
END:VEVENT
BEGIN:VEVENT
DTSTART;TZID=America/New_York:20250612T120000
DTEND;TZID=America/New_York:20250612T130000
DTSTAMP:20260421T041300
CREATED:20250604T195840Z
LAST-MODIFIED:20250604T195840Z
UID:10002258-1749729600-1749733200@ucitysquare.com
SUMMARY:Seminar: The Key Pillars for Drug Discovery & Development Programs
DESCRIPTION:
URL:https://ucitysquare.com/event/seminar-the-key-pillars-for-drug-discovery-development-programs/
LOCATION:Pennsylvania
END:VEVENT
BEGIN:VEVENT
DTSTART;TZID=America/New_York:20250612T160000
DTEND;TZID=America/New_York:20250612T190000
DTSTAMP:20260421T041300
CREATED:20250312T143709Z
LAST-MODIFIED:20250604T150934Z
UID:10002040-1749744000-1749754800@ucitysquare.com
SUMMARY:uCity Square Beer Garden
DESCRIPTION:
URL:https://ucitysquare.com/event/ucity-square-beer-garden-2025/2025-06-12/
LOCATION:Pennsylvania
ATTACH;FMTTYPE=image/png:/wp-content/uploads/2023/09/uCS-Beer-Garden-1.png
END:VEVENT
BEGIN:VEVENT
DTSTART;TZID=America/New_York:20250612T170000
DTEND;TZID=America/New_York:20250612T200000
DTSTAMP:20260421T041300
CREATED:20250521T171219Z
LAST-MODIFIED:20250528T134953Z
UID:10002245-1749747600-1749758400@ucitysquare.com
SUMMARY:University City Summer Series at The Lawn - BlocoFunk
DESCRIPTION:
URL:https://ucitysquare.com/event/university-city-summer-series-at-the-lawn-june-2025/
LOCATION:Pennsylvania
ATTACH;FMTTYPE=image/png:/wp-content/uploads/2025/05/blocofunk.png
END:VEVENT
END:VCALENDAR